0.008333000000000
0.000000000000000
0.000000000000000
-0.008333000000000
-179.9958335000
89.9958335000
