0.033333333333000
0.000000000000000
0.000000000000000
-0.033333333333000
-179.9833333333
89.9833333315
