<?xml version="1.0" encoding="ISO-8859-1"?>
<!DOCTYPE metadata SYSTEM "http://www.fgdc.gov/metadata/fgdc-std-001-1998.dtd">
<metadata>
	<idinfo>
		<citation>
			<citeinfo>
				<origin>National Oceanic and Atmospheric Administration (NOAA)</origin>
				<origin>U.S. Geological Survey (USGS)</origin>
				<pubdate>2005</pubdate>
				<title>geo_30m_mosaic - Acoustic Backscatter Grey Scale Image of the Puerto Rico Trench, Geographic Coordinate System</title>
				<geoform>remote-sensing image</geoform>
				<serinfo>
					<sername>Open-File Report</sername>
					<issue>2005-1066</issue>
				</serinfo>
				<pubinfo>
					<pubplace>Woods Hole Science Center, Woods Hole, MA</pubplace>
					<publish>U.S. Geological Survey, Coastal and Marine Geology Program</publish>
				</pubinfo>
				<lworkcit>
					<citeinfo>
						<origin>Uri ten Brink</origin>
						<origin>Chuck Worley</origin>
						<origin>Lt. Shep Smith</origin>
						<origin>Thomas Stepka</origin>
						<origin>Glynn Williams</origin>
						<pubdate>2005</pubdate>
						<title>Project PROBE Leg I - Report and Archive of Multibeam Bathymetry and Acoustic Backscatter, CTD/XBT and GPS Navigation Data Collected During USGS Cruise 02051 (NOAA Cruise RB0208) Puerto Rico Trench September 24, 2002 to September 30, 2002.</title>
						<serinfo>
							<sername>Open-File Report</sername>
							<issue>2005-1066</issue>
						</serinfo>
						<pubinfo>
							<pubplace>Woods Hole Science Center, Woods Hole, MA</pubplace>
							<publish>U.S. Geological Survey, Coastal and Marine Geology Program</publish>
						</pubinfo>
						<onlink>http://pubs.usgs.gov/of/2005/1066</onlink>
						<edition>1.0</edition><othercit>1 DVD-ROM</othercit></citeinfo>
				</lworkcit>
				<ftname Sync="TRUE">geo_30m_mosaic.tif</ftname><onlink>http://pubs.usgs.gov/of/2005/1066/data/multibeam/geo/geo_30m_mosaic.zip</onlink><edition>1.0</edition></citeinfo>
		</citation>
		<descript>
			<abstract>The Puerto Rico Trench is a tectonic plate boundary where the North American Plate slides by and descends under the Caribbean Plate.  Although much of the trench lies within the United States of America's Exclusive Economic Zone (EEZ), surprisingly few surveys have been conducted there during the past 25 years.  This data set is a grey toned surface model image product derived from a process using multibeam bathymetry and acoustic-backscatter imagery data collected during the U.S. Geological Survey (USGS) science cruise 02051 in collaboration with the National Oceanic and Atmospheric Administration (NOAA) Research Cruise RB0208 from 24 September to 30 September 2002, Leg I of III. (Leg II and III: 20030218 to 20030407 and 20030828 to 20030904, respectively).</abstract>
			<purpose>This multibeam bathymetric image can be used in Geographic Information Science (GIS) to provide better perspective viewing and advanced analysis of geologic conditions in the Puerto Rico Trench.  Remotely sensed features in the trench are studied and the information learned can be used to discern cause and effect of natural hazards such as earthquakes and tsunamis.</purpose>
			<langdata Sync="TRUE">en</langdata></descript>
		<timeperd>
			<timeinfo>
				<rngdates>
					<begdate>20020924</begdate>
					<enddate>20020930</enddate>
				</rngdates>
			</timeinfo>
			<current>ground condition</current>
		</timeperd>
		<status>
			<progress>Complete</progress>
			<update>None planned</update>
		</status>
		<spdom>
			<bounding>
				<westbc>
-67.742288</westbc>
				<eastbc>
-65.488916</eastbc>
				<northbc>
20.293227</northbc>
				<southbc>
18.669185</southbc>
			</bounding>
			<lboundng><leftbc Sync="TRUE">-67.742288</leftbc><rightbc Sync="TRUE">-65.488916</rightbc><bottombc Sync="TRUE">18.669185</bottombc><topbc Sync="TRUE">20.293227</topbc></lboundng></spdom>
		<keywords>
			<theme>
				<themekt>General</themekt>
				<themekey>Coastal and Marine Geology Program</themekey>
				<themekey>USGS</themekey>
				<themekey>National Oceanic and Atmospheric Administration</themekey>
				<themekey>U.S. Geological Survey</themekey>
				<themekey>CMGP</themekey>
				<themekey>NOAA</themekey>
				<themekey>Woods Hole Science Center</themekey>
				<themekey>WHSC</themekey>
				<themekey>NOAA Hydrographic Survey-Atlantic Branch</themekey>
				<themekey>NOAA Office of Ocean Exploration</themekey>
				<themekey>seafloor mapping</themekey>
				<themekey>field activity serial number 02051</themekey>
				<themekey>field activity number RB02-08</themekey>
				<themekey>NOAA Cruise RB0208</themekey>
				<themekey>acoustic backscatter grey scale image</themekey>
				<themekey>Seabeam 2112 12-kHz </themekey>
				<themekey>Multibeam bathymetry</themekey>
			</theme>
			<theme>
				<themekey>oceans and estuaries</themekey>
				<themekey>imageryBaseMapsEarthCover</themekey>
				<themekt>ISO 19115 Topic Category</themekt>
				<themekey>geoscientificInformation</themekey>
			</theme>
			<place>
				<placekt>General</placekt>
				<placekey>Puerto Rico Trench</placekey>
				<placekey>Caribbean Sea</placekey>
				<placekey>North America</placekey>
				<placekey>Atlantic Ocean</placekey>
				<placekey>Archipelago</placekey>
				<placekey>Muertos Trough</placekey>
				<placekey>Anegada Trough</placekey>
				<placekey>Antilles Arc</placekey>
				<placekey>Virgin Island Trough</placekey>
				<placekey>Caribbean Plate</placekey>
			</place>
		</keywords>
		<accconst>None</accconst>
		<useconst>Public domain data from the U.S. government are freely redistributable with proper metadata and source attribution.  This data set is not to be use for navigation purpose (s).</useconst>
		<ptcontac>
			<cntinfo>
				<cntperp>
					<cntper>Glynn Williams</cntper>
					<cntorg>U.S. Geological Survey</cntorg>
				</cntperp>
				<cntpos>Information Technician (Geo/GIS)</cntpos>
				<cntaddr>
					<addrtype>mailing and physical address</addrtype>
					<address>384 Woods Hole Road</address>
					<city>Woods Hole Road</city>
					<state>MA</state>
					<postal>02543-1598</postal>
					<country>USA</country>
				</cntaddr>
				<cntvoice>(508) 548-8700 x2290</cntvoice>
				<cntfax>(508) 457-2310</cntfax>
				<cntemail>gwilliams@usgs.gov</cntemail>
				<hours>8:00AM to 5:00PM</hours>
			</cntinfo>
		</ptcontac>
		<native>Microsoft Windows XP Version 5.1 (Build 2600) Service Pack 2; ESRI ArcCatalog 9.0.0.535</native>
		<crossref>
			<citeinfo>
				<origin>Uri ten Brink</origin>
				<origin>William Danforth</origin>
				<origin>Chris Polloni</origin>
				<origin>Castle Eugene Parker</origin>
				<origin>Toshi Uozumi</origin>
				<origin>Glynn Williams</origin>
				<pubdate>2004</pubdate>
				<title>Project PROBE Leg II - Final Report and Archive of Swath Bathymetric Sonar, CTD/XBT and GPS Navigation Data Collected During USGS Cruise 03008 (NOAA Cruise RB0303) Puerto Rico Trench 18 February - 7 March, 2003</title>
				<serinfo>
					<sername>Open-File Report</sername>
					<issue>2004-1400</issue>
				</serinfo>
				<pubinfo>
					<pubplace>Woods Hole Science Center, Woods Hole, MA</pubplace>
					<publish>U.S. Geological Survey, Coastal and Marine Geology Program</publish>
				</pubinfo>
				<onlink>http://pubs.usgs.gov/of/2004/1400/</onlink>
				<edition>1.0</edition><othercit>1 DVD-ROM</othercit></citeinfo>
		</crossref>
		<natvform Sync="TRUE">Raster Dataset</natvform></idinfo>
	<dataqual>
		<posacc>
			<horizpa>
			</horizpa>
			<vertacc>
			</vertacc>
		</posacc>
		<lineage>
			<procstep>
				<procdesc>The processing of data from multibeam bathymetry and acoustic backscatter started with the collection of raw data imagery that were converted using Caris 5.3 Hips Sips software.  The continued processing of data entailed reviewing and editing it with Caris Swath Edit, followed with Caris Sub Set mode editing.  Both editing processes allowed the hydrographer to eliminate data points that were considered artifacts or out of context with the immediate benthic area.  After editing, the weighted mean grid was re-generated with a grid resolution (s) from 300 to 30 meters.</procdesc>
				<proccont>
					<cntinfo>
						<cntperp>
							<cntper>Lt Shep Smith</cntper>
							<cntorg>NOAA/OMAO</cntorg>
						</cntperp>
						<cntpos>Hydrographer</cntpos>
						<cntaddr>
							<addrtype>mailing and physical address</addrtype>
							<address>1315 East West Highway</address>
							<city>Silver Springs</city>
							<state>MD</state>
							<postal>20910</postal>
							<country>USA</country>
						</cntaddr>
						<cntvoice>301-713-3431 x171</cntvoice>
					</cntinfo>
				</proccont>
				<procsv>Caris 5.3 Hips Sips</procsv>
			</procstep>
			<procstep>
				<procdesc>This image was created from a weighted mean grid, referred to in process step one, regenerated to 150 meter grid resolution using available on-board research vessel image processing tools.</procdesc>
				<proccont>
					<cntinfo>
						<cntperp>
							<cntper>Lt Shep Smith</cntper>
							<cntorg>NOAA/OMAO</cntorg>
						</cntperp>
						<cntpos>Hydrographer</cntpos>
						<cntaddr>
							<addrtype>mailing and physical address</addrtype>
							<address>1315 East West Highway</address>
							<city>Silver Springs</city>
							<state>Maryland</state>
							<postal>20910</postal>
							<country>USA</country>
						</cntaddr>
						<cntvoice>301-713-3431 x171</cntvoice>
					</cntinfo>
				</proccont>
				<procsv>Caris HIPS SIPS 5.3; ArcInfo; MapInfo</procsv>
			</procstep>
			<procstep>
				<procdesc>This image was re-projected from UTM Zone 19 to a geographic coordinate system with a WGS84 Datum.</procdesc>
				<procdate>2005</procdate>
				<proccont>
					<cntinfo>
						<cntperp>
							<cntper>Glynn Williams</cntper>
							<cntorg>U.S. Geological Survey</cntorg>
						</cntperp>
						<cntpos>Information Technician (Geo/GIS)</cntpos>
						<cntaddr>
							<addrtype>mailing and physical address</addrtype>
							<address>384 Woods Hole Road</address>
							<city>Woods Hole (Village)</city>
							<state>MA</state>
							<postal>02543-1598</postal>
							<country>USA</country>
						</cntaddr>
						<cntvoice>(508) 548-8700 x2290</cntvoice>
						<cntfax>(508) 457-2310</cntfax>
						<cntemail>gwilliams@usgs.gov</cntemail>
						<hours>8:00AM to 4:30PM; M-F</hours>
					</cntinfo>
				</proccont>
				<procsv>Blue Marble Geographic Transformer 5.1</procsv><srcused>utm19_30m_mosaic.tif</srcused><srcprod>geo_30m_mosaic.tif</srcprod></procstep>
		</lineage>
	</dataqual>
	<spdoinfo>
		<direct>Raster</direct>
		<rastinfo><rasttype Sync="TRUE">Pixel</rasttype><rowcount Sync="TRUE">5992</rowcount><colcount Sync="TRUE">7838</colcount><rastxsz Sync="TRUE">0.000287</rastxsz><rastysz Sync="TRUE">0.000271</rastysz><rastbpp Sync="TRUE">8</rastbpp><vrtcount Sync="TRUE">1</vrtcount><rastorig Sync="TRUE">Upper Left</rastorig><rastcmap Sync="TRUE">TRUE</rastcmap><rastcomp Sync="TRUE">None</rastcomp><rastband Sync="TRUE">1</rastband><rastdtyp Sync="TRUE">pixel codes</rastdtyp><rastplyr Sync="TRUE">FALSE</rastplyr><rastifor Sync="TRUE">TIFF</rastifor><rastxu>decimal degrees</rastxu><rastyu>decimal degrees</rastyu><rastnodt>255</rastnodt><rastityp>GeoTIFF</rastityp></rastinfo></spdoinfo>
	<spref>
		<horizsys>
			<geograph>
				<latres>0.000010</latres>
				<longres>0.000010</longres>
				<geogunit>Decimal degrees</geogunit>
			</geograph>
			<geodetic>
				<horizdn>D_WGS_1984</horizdn>
				<ellips>WGS_1984</ellips>
				<semiaxis>6378137.000000</semiaxis>
				<denflat>298.257224</denflat>
			</geodetic>
			<cordsysn><geogcsn Sync="TRUE">GCS_WGS_1984</geogcsn></cordsysn><planar><planci><plance Sync="TRUE">row and column</plance><coordrep><absres Sync="TRUE">0.000287</absres><ordres Sync="TRUE">0.000271</ordres></coordrep></planci></planar></horizsys>
		<vertdef>
			<altsys>
			</altsys>
			<depthsys>
			</depthsys>
		</vertdef>
	</spref>
	<eainfo>
		<detailed Name="Band_1"><enttyp><enttypt Sync="TRUE">Table</enttypt><enttypc Sync="TRUE">256</enttypc><enttypl Sync="TRUE">Band_1</enttypl></enttyp><attr><attrlabl Sync="TRUE">ObjectID</attrlabl><attalias Sync="TRUE">ObjectID</attalias><attrtype Sync="TRUE">OID</attrtype><attwidth Sync="TRUE">4</attwidth><atprecis Sync="TRUE">0</atprecis><attscale Sync="TRUE">0</attscale><attrdef Sync="TRUE">Internal feature number.</attrdef><attrdefs Sync="TRUE">ESRI</attrdefs><attrdomv><udom Sync="TRUE">Sequential unique whole numbers that are automatically generated.</udom></attrdomv></attr><attr><attrlabl Sync="TRUE">Value</attrlabl><attalias Sync="TRUE">Value</attalias><attrtype Sync="TRUE">Integer</attrtype><attwidth Sync="TRUE">0</attwidth><atprecis Sync="TRUE">0</atprecis><attscale Sync="TRUE">0</attscale></attr><attr><attrlabl Sync="TRUE">Red</attrlabl><attalias Sync="TRUE">Red</attalias><attrtype Sync="TRUE">Double</attrtype><attwidth Sync="TRUE">0</attwidth><atprecis Sync="TRUE">0</atprecis><attscale Sync="TRUE">0</attscale></attr><attr><attrlabl Sync="TRUE">Green</attrlabl><attalias Sync="TRUE">Green</attalias><attrtype Sync="TRUE">Double</attrtype><attwidth Sync="TRUE">0</attwidth><atprecis Sync="TRUE">0</atprecis><attscale Sync="TRUE">0</attscale></attr><attr><attrlabl Sync="TRUE">Blue</attrlabl><attalias Sync="TRUE">Blue</attalias><attrtype Sync="TRUE">Double</attrtype><attwidth Sync="TRUE">0</attwidth><atprecis Sync="TRUE">0</atprecis><attscale Sync="TRUE">0</attscale></attr></detailed><overview><eaover>There are no attributes associated with the GEOTIFF image.</eaover><dsoverv>Greyscale digital multibeam mosaic from data collected during USGS/NOAA cruise 02051/RB0208 of the Puerto Rico Trench region. Pixel values contain acoustic reflectivity values normalized to an 8-bit data range (0-255).</dsoverv></overview></eainfo>
	<distinfo>
		<distrib>
			<cntinfo>
				<cntperp>
					<cntper>Uri ten Brink</cntper>
					<cntorg>U.S. Geological Survey</cntorg>
				</cntperp>
				<cntpos>Research Geologist</cntpos>
				<cntaddr>
					<addrtype>mailing and physical address</addrtype>
					<address>384 Woods Hole Road</address>
					<city>Woods Hole</city>
					<state>MA</state>
					<postal>02543-1589</postal>
					<country>USA</country>
				</cntaddr>
				<cntvoice>(508) 548-8700 x2396</cntvoice>
				<cntfax>(508) 457-2310</cntfax>
				<cntemail>utenbrink@usgs.gov</cntemail>
				<hours>8AM to 5 PM; M-F</hours>
			</cntinfo>
		</distrib>
		<resdesc>Downloadable Data</resdesc>
		<distliab>Although these data sets are used by the National Oceanic and Atmospheric Administration (NOAA) and the U.S. Geological Survey (USGS), no warranty, expressed or implied, is made by NOAA or the USGS as to the accuracy of the data and/or related materials.  The act of distribution shall not constitute any such warranty, and no responsibility is assumed by NOAA or the USGS in the use of these data.</distliab>
		<stdorder>
			<digform>
				<digtinfo>
					<formname>TIFF</formname>
					<formspec>GeoTIFF Image</formspec>
					<formcont>A zip file containing the GeoTIFF image and associated world file</formcont>
					<filedec>zip</filedec>
					<transize>44.796</transize>
					<dssize Sync="TRUE">44.796</dssize></digtinfo>
				<digtopt>
					<offoptn>
						<offmedia>DVD-ROM</offmedia>
						<reccap>
							<recden>4,700</recden>
							<recdenu>Mbyte</recdenu>
						</reccap>
						<recfmt>UDF</recfmt>
					</offoptn>
				</digtopt>
			</digform>
			<fees>none</fees>
		</stdorder>
		<techpreq>This image is available as a GEOTIFF image with an accompanying world file. To utilize this data, the user must have an image viewer, image processing or GIS software package capable of importing a GeoTIFF image.
</techpreq>
	</distinfo>
	<metainfo>
		<metd>20050624</metd>
		<metc>
			<cntinfo>
				<cntperp>
					<cntper>Glynn Williams</cntper>
					<cntorg>U.S. Geological Survey</cntorg>
				</cntperp>
				<cntpos>Information Technician (Geo/GIS)</cntpos>
				<cntaddr>
					<addrtype>mailing and physical address</addrtype>
					<address>384 Woods Hole Road</address>
					<city>Woods Hole</city>
					<state>MA</state>
					<postal>02543-1598</postal>
					<country>USA</country>
				</cntaddr>
				<cntvoice>(508) 548-8700 x2290</cntvoice>
				<cntfax>(508) 457-2310</cntfax>
				<cntemail>gwilliams@usgs.gov</cntemail>
				<hours>8:00AM to 5:00PM; M- F</hours>
			</cntinfo>
		</metc>
		<metstdn>FGDC Content Standards for Digital Geospatial Metadata</metstdn>
		<metstdv>FGDC-STD-001-1998</metstdv>
		<mettc>local time</mettc>
		<metac>None</metac>
		<metuc>None</metuc>
		<langmeta Sync="TRUE">en</langmeta><metextns><onlink Sync="TRUE">http://www.esri.com/metadata/esriprof80.html</onlink><metprof Sync="TRUE">ESRI Metadata Profile</metprof></metextns></metainfo>
	<dataIdInfo><envirDesc Sync="TRUE">Microsoft Windows XP Version 5.1 (Build 2600) Service Pack 2; ESRI ArcCatalog 9.0.0.535</envirDesc><dataLang><languageCode Sync="TRUE" value="en"></languageCode></dataLang><idCitation><resTitle Sync="TRUE">geo_30m_mosaic.tif</resTitle><presForm><PresFormCd Sync="TRUE" value="005"></PresFormCd></presForm></idCitation><spatRpType><SpatRepTypCd Sync="TRUE" value="002"></SpatRepTypCd></spatRpType><dataExt><geoEle><GeoBndBox esriExtentType="native"><westBL Sync="TRUE">-67.742288</westBL><eastBL Sync="TRUE">-65.488916</eastBL><northBL Sync="TRUE">20.293227</northBL><southBL Sync="TRUE">18.669185</southBL><exTypeCode Sync="TRUE">1</exTypeCode></GeoBndBox></geoEle></dataExt><geoBox esriExtentType="decdegrees"><westBL Sync="TRUE">-67.742288</westBL><eastBL Sync="TRUE">-65.488916</eastBL><northBL Sync="TRUE">20.293227</northBL><southBL Sync="TRUE">18.669185</southBL><exTypeCode Sync="TRUE">1</exTypeCode></geoBox></dataIdInfo><mdLang><languageCode Sync="TRUE" value="en"></languageCode></mdLang><mdStanName Sync="TRUE">ISO 19115 Geographic Information - Metadata</mdStanName><mdStanVer Sync="TRUE">DIS_ESRI1.0</mdStanVer><mdChar><CharSetCd Sync="TRUE" value="004"></CharSetCd></mdChar><mdHrLv><ScopeCd Sync="TRUE" value="005"></ScopeCd></mdHrLv><mdHrLvName Sync="TRUE">dataset</mdHrLvName><distInfo><distributor><distorTran><onLineSrc><orDesc Sync="TRUE">002</orDesc><linkage Sync="TRUE">file://\\GLYWILDTXP\C$\ofr2005-1066\data\multibeam\geo\geo_30m_mosaic.tif</linkage><protocol Sync="TRUE">Local Area Network</protocol></onLineSrc><transSize Sync="TRUE">44.796</transSize></distorTran><distorFormat><formatName Sync="TRUE">Raster Dataset</formatName></distorFormat></distributor></distInfo><refSysInfo><RefSystem><refSysID><identCode Sync="TRUE">GCS_WGS_1984</identCode></refSysID></RefSystem></refSysInfo><spatRepInfo><GridSpatRep><numDims Sync="TRUE">2</numDims><cellGeo><CellGeoCd Sync="TRUE" value="002"></CellGeoCd></cellGeo><tranParaAv Sync="TRUE">1</tranParaAv><axDimProps><Dimen><dimName><DimNameTypCd Sync="TRUE" value="002"></DimNameTypCd></dimName><dimSize Sync="TRUE">7838</dimSize><dimResol><value Sync="TRUE">0.000287</value><uom><UomLength><uomName Sync="TRUE">Degree</uomName></UomLength></uom></dimResol></Dimen><Dimen><dimName><DimNameTypCd Sync="TRUE" value="001"></DimNameTypCd></dimName><dimSize Sync="TRUE">5992</dimSize><dimResol><value Sync="TRUE">0.000271</value><uom><UomLength><uomName Sync="TRUE">Degree</uomName></UomLength></uom></dimResol></Dimen></axDimProps></GridSpatRep></spatRepInfo><Esri><SyncDate>20050901</SyncDate><SyncTime>10041700</SyncTime><ModDate>20050901</ModDate><ModTime>10041700</ModTime></Esri><mdDateSt Sync="TRUE">20050901</mdDateSt></metadata>
