150.000000
0.000000
0.000000
-150.000000
631356.170000
2244505.370000
