25.000000000000
0.000000000000
0.000000000000
-25.000000000000
539729.304203286530
2975457.376684986100
