0.000020396622
0.000000000000
0.000000000000
-0.000018047984
-91.868023388154
27.833328922496
