<?xml version="1.0"?>
<!--<!DOCTYPE metadata SYSTEM "http://www.esri.com/metadata/esriprof80.dtd">-->
<metadata xml:lang="en">
	<Esri>
		<MetaID>{7ED55835-B5C8-4DC3-87D5-908A40FA1C34}</MetaID>
		<CreaDate>20040922</CreaDate>
		<CreaTime>17043100</CreaTime>
		<SyncOnce>FALSE</SyncOnce>
		<SyncDate>20051213</SyncDate>
		<SyncTime>11302800</SyncTime>
		<ModDate>20051213</ModDate>
		<ModTime>11315400</ModTime>
	</Esri>
	<idinfo>
		<native Sync="TRUE">Microsoft Windows XP Version 5.1 (Build 2600) Service Pack 2; ESRI ArcCatalog 9.0.0.535</native>
		<descript>
			<langdata Sync="TRUE">en</langdata>
			<abstract>Since 1982 the, U.S. Geological Survey (USGS) has collected a large amount of surficial and shallow subsurface geologic information in the deep parts of the Gulf of Mexico. These data include digital sidescan sonar imagery, digital seismic-reflection data, and descriptions and analyses of piston and gravity cores. The data were collected during several different projects that addressed surficial and shallow subsurface geologic processes. Some of these data sets have already been published, but the growing interest in the occurrence and distribution of gas hydrates in the Gulf of Mexico warrants integrating these existing data and associated interpretations into a GIS to provide regional background information for ongoing and future gas hydrate research.</abstract>
			<purpose>This GeoTIFF image is a 2 m enhanced version of a sidescan sonar mosaic collected using a Benthos SIS-1000 sidescan sonar system. The sonar mosaic has been enhanced and projected to geographic using the WGS 84 datum. This sidescan sonar mosaic was collected on the upper Louisiana continental slope in water depths less than 800 m, and covers an area of 329 km2. Results have been briefly summarized by Cooper et al. (1999).</purpose>
		</descript>
		<citation>
			<citeinfo>
				<origin>David Twichell</origin>
				<pubdate>2005</pubdate>
				<title>SIS_ENGEOG.TIF - Enhanced SIS-1000 sidescan sonar mosaic of a minibasin on the Louisiana upper continental slope - geographic, WGS84</title>
				<ftname Sync="TRUE">sis_engeog.tif</ftname>
				<geoform Sync="TRUE">remote-sensing image</geoform>
				<onlink>http://pubs.usgs.gov/of/2005/1071/data/sidescan/imagery/sis1000/enhanced/geog/sis_engeog.zip</onlink>
				<edition>1.0</edition>
				<serinfo>
					<sername>Open-File Report</sername>
					<issue>2005-1071</issue>
				</serinfo>
				<pubinfo>
					<pubplace>Woods Hole Science Center, Woods Hole, MA</pubplace>
					<publish>U.S. Geological Survey, Coastal and Marine Geology Program</publish>
				</pubinfo>
				<lworkcit>
					<citeinfo>
						<origin>Twichell D.C.</origin>
						<origin>Cross V.A.</origin>
						<origin>Paskevich, V.F.</origin>
						<origin>Hutchinson, D.R.</origin>
						<origin>Winters, W.J.</origin>
						<origin>Hart, P.E.</origin>
						<pubdate>2005</pubdate>
						<title>GIS of selected geophysical and core data in the northern Gulf of Mexico continental slope collected by the U.S. Geological Survey</title>
						<edition>1.0</edition>
						<othercit>1 DVD-ROM</othercit>
						<onlink>http://pubs.usgs.gov/of/2005/1071</onlink>
						<serinfo>
							<sername>Open-File Report</sername>
							<issue>2005-1071</issue>
						</serinfo>
						<pubinfo>
							<pubplace>Woods Hole Science Center, Woods Hole, MA</pubplace>
							<publish>U.S. Geological Survey, Coastal and Marine Geology Program</publish>
						</pubinfo>
					</citeinfo>
				</lworkcit>
				<origin>VeeAnn Cross</origin>
				<origin>William Danforth</origin>
			</citeinfo>
		</citation>
		<timeperd>
			<current>ground condition</current>
			<timeinfo>
				<rngdates>
					<begdate>19990410</begdate>
					<endtime>19990414</endtime>
				</rngdates>
			</timeinfo>
		</timeperd>
		<status>
			<progress>Complete</progress>
			<update>None planned</update>
		</status>
		<spdom>
			<bounding>
				<westbc Sync="TRUE">-91.868034</westbc>
				<eastbc Sync="TRUE">-91.581665</eastbc>
				<northbc Sync="TRUE">27.833338</northbc>
				<southbc Sync="TRUE">27.700017</southbc>
			</bounding>
			<lboundng>
				<leftbc Sync="TRUE">-91.868034</leftbc>
				<rightbc Sync="TRUE">-91.581665</rightbc>
				<bottombc Sync="TRUE">27.700017</bottombc>
				<topbc Sync="TRUE">27.833338</topbc>
			</lboundng>
		</spdom>
		<keywords>
			<theme>
				<themekt>General</themekt>
				<themekey>U.S. Geological Survey</themekey>
				<themekey>Woods Hole Science Center</themekey>
				<themekey>Gulf of Mexico database</themekey>
				<themekey>Exclusive Economic Zone</themekey>
				<themekey>EEZ</themekey>
				<themekey>sidescan sonar</themekey>
				<themekey>sidescan sonar mosaic</themekey>
				<themekey>composite mosaic</themekey>
				<themekey>TIFF</themekey>
				<themekey>TIF</themekey>
				<themekey>Geotiff</themekey>
				<themekey>GEOTIFF</themekey>
				<themekey>SIS-1000</themekey>
				<themekey>USGS</themekey>
				<themekey>Coastal and Marine Geology Program</themekey>
				<themekey>CMPG</themekey>
				<themekey>Information Archives Field Activity 99002</themekey>
				<themekey>WHSC</themekey>
			</theme>
			<place>
				<placekey>Gulf of Mexico</placekey>
				<placekt>General</placekt>
				<placekey>Louisiana continental slope</placekey>
				<placekey>North America</placekey>
				<placekey>United States</placekey>
			</place>
			<theme>
				<themekey>Oceans and estuaries</themekey>
				<themekey>imageryBaseMapsEarthCover</themekey>
				<themekt>ISO 19115 Topic Category</themekt>
				<themekey>geoscientificInformation</themekey>
			</theme>
		</keywords>
		<accconst>None</accconst>
		<useconst>Public domain data from the U.S. Government are freely redistributable with proper metadata and source attribution. Please recognize the U.S. Geological Survey (USGS) as the source of this information.</useconst>
		<natvform Sync="TRUE">Raster Dataset</natvform>
		<ptcontac>
			<cntinfo>
				<cntperp>
					<cntper>David Twichell</cntper>
					<cntorg>U.S. Geological Survey</cntorg>
				</cntperp>
				<cntpos>Oceanographer</cntpos>
				<cntaddr>
					<addrtype>mailing and physical address</addrtype>
					<address>384 Woods Hole Road</address>
					<city>Woods Hole</city>
					<state>MA</state>
					<postal>02543-1598</postal>
					<country>USA</country>
				</cntaddr>
				<cntvoice>(508) 548-8700 x2266</cntvoice>
				<cntfax>(508) 457-2310</cntfax>
				<cntemail>dtwichell@usgs.gov</cntemail>
			</cntinfo>
		</ptcontac>
		<crossref>
			<citeinfo>
				<origin>Foster, D.F.</origin>
				<origin>Twichell, D.C.</origin>
				<origin>Danforth, W.W.</origin>
				<origin>Irwin, B.J.</origin>
				<origin>Nichols, D.R.</origin>
				<origin>O'Brien, T.F.</origin>
				<pubdate>2000</pubdate>
				<title>Archive of SIS-1000 CHIRP subbottom data collected during USGS cruise GYRE 99002 Gulf of Mexico, 9-22 April, 1999</title>
				<serinfo>
					<sername>Open-File Report</sername>
					<issue>99-586</issue>
				</serinfo>
				<pubinfo>
					<pubplace>Woods Hole Science Center, Woods Hole, MA</pubplace>
					<publish>U.S. Geological Survey, Coastal and Marine Geology Program</publish>
				</pubinfo>
				<edition>1.0</edition>
			</citeinfo>
		</crossref>
		<crossref>
			<citeinfo>
				<origin>Danforth, W.W.</origin>
				<origin>O'Brien, T.F.</origin>
				<origin>Schwab, W.W.</origin>
				<title>USGS image processing system: near real-time mosaicking of high-resolution sidescan-sonar data</title>
				<serinfo>
					<sername>Sea Technology</sername>
					<issue>January, 1991</issue>
				</serinfo>
				<pubinfo>
					<publish>Marine Technology Society</publish>
				</pubinfo>
				<pubdate>1991</pubdate>
			</citeinfo>
		</crossref>
		<crossref>
			<citeinfo>
				<origin>Paskevich, V.</origin>
				<pubdate>1992</pubdate>
				<title>Digital mapping of side-scan sonar data with the Woods Hole Image Processing System software</title>
				<serinfo>
					<sername>Open-File Report</sername>
					<issue>92-536</issue>
				</serinfo>
				<pubinfo>
					<pubplace>Woods Hole Science Center, Woods Hole, MA</pubplace>
					<publish>U.S. Geological Survey, Coastal and Marine Geology Program</publish>
				</pubinfo>
			</citeinfo>
		</crossref>
		<crossref>
			<citeinfo>
				<origin>Paskevich, V.</origin>
				<title>MAPIT: An improved method for mapping digital sidescan sonar data using the Woods Hole Image Processing System (WHIPS) software</title>
				<serinfo>
					<sername>Open-File Report</sername>
					<issue>96-281</issue>
				</serinfo>
				<pubinfo>
					<pubplace>Woods Hole Science Center, Woods Hole, MA</pubplace>
					<publish>U.S. Geological Survey, Coastal and Marine Geology Program</publish>
				</pubinfo>
				<pubdate>1996</pubdate>
			</citeinfo>
		</crossref>
		<crossref>
			<citeinfo>
				<origin>Cooper, A</origin>
				<origin>Twichell, D</origin>
				<origin>Hart, P</origin>
				<pubdate>1999</pubdate>
				<title>A seismic-reflection investigation of gas hydrates and sea-floor features of the upper continental slope of the Garden Banks and Green Canyon regions, northern Gulf of Mexico: Report for cruise G1-990GM (99002)</title>
				<serinfo>
					<sername>Open-File Report</sername>
					<issue>99-570</issue>
				</serinfo>
				<pubinfo>
					<pubplace>Reston, VA</pubplace>
					<publish>US Geological Survey, Coastal and Marine Geology Program</publish>
				</pubinfo>
			</citeinfo>
		</crossref>
		<browse>
			<browsen>http://pubs.usgs.gov/of/2005/1071/data/sidescan/imagery/sis1000/enhanced/geog/sis_engeog-thumb.gif</browsen>
			<browsed>Thumbnail image of the SIS1000 sidescan sonar mosaic of a minibasin on the Louisiana upper continental slope.</browsed>
			<browset>GIF</browset>
		</browse>
		<browse>
			<browsen>http://pubs.usgs.gov/of/2005/1071/data/sidescan/imagery/sis1000/enhanced/geog/sis_engeog.gif</browsen>
			<browsed>Overview image of the SIS1000 sidescan sonar mosaic of a minibasin on the Louisiana upper continental slope.</browsed>
			<browset>GIF</browset>
		</browse>
	</idinfo>
	<dataIdInfo>
		<envirDesc Sync="TRUE">Microsoft Windows XP Version 5.1 (Build 2600) Service Pack 2; ESRI ArcCatalog 9.0.0.535</envirDesc>
		<dataLang>
			<languageCode Sync="TRUE" value="en">
			</languageCode>
		</dataLang>
		<idCitation>
			<resTitle Sync="TRUE">sis_engeog.tif</resTitle>
			<presForm>
				<PresFormCd Sync="TRUE" value="005">
				</PresFormCd>
			</presForm>
		</idCitation>
		<spatRpType>
			<SpatRepTypCd Sync="TRUE" value="002">
			</SpatRepTypCd>
		</spatRpType>
		<dataExt>
			<geoEle>
				<GeoBndBox esriExtentType="native">
					<westBL Sync="TRUE">-91.868034</westBL>
					<eastBL Sync="TRUE">-91.581665</eastBL>
					<northBL Sync="TRUE">27.833338</northBL>
					<southBL Sync="TRUE">27.700017</southBL>
					<exTypeCode Sync="TRUE">1</exTypeCode>
				</GeoBndBox>
			</geoEle>
		</dataExt>
		<geoBox esriExtentType="decdegrees">
			<westBL Sync="TRUE">-91.868034</westBL>
			<eastBL Sync="TRUE">-91.581665</eastBL>
			<northBL Sync="TRUE">27.833338</northBL>
			<southBL Sync="TRUE">27.700017</southBL>
			<exTypeCode Sync="TRUE">1</exTypeCode>
		</geoBox>
	</dataIdInfo>
	<metainfo>
		<langmeta Sync="TRUE">en</langmeta>
		<metstdn Sync="TRUE">FGDC Content Standards for Digital Geospatial Metadata</metstdn>
		<metstdv Sync="TRUE">FGDC-STD-001-1998</metstdv>
		<mettc Sync="TRUE">local time</mettc>
		<metc>
			<cntinfo>
				<cntorgp>
					<cntper>David Twichell</cntper>
					<cntorg>U.S. Geological Survey</cntorg>
				</cntorgp>
				<cntaddr>
					<addrtype>mailing and physical address</addrtype>
					<city>Woods Hole</city>
					<state>MA</state>
					<postal>02543-1598</postal>
					<address>384 Woods Hole Road</address>
					<country>USA</country>
				</cntaddr>
				<cntvoice>(508) 548-8700 x2266</cntvoice>
				<cntpos>Oceanographer</cntpos>
				<cntfax>(508) 457-2310</cntfax>
				<cntemail>dtwichell@usgs.gov</cntemail>
			</cntinfo>
		</metc>
		<metd Sync="TRUE">20051213</metd>
		<metac>None</metac>
		<metuc>None</metuc>
		<metextns><onlink Sync="TRUE">http://www.esri.com/metadata/esriprof80.html</onlink><metprof Sync="TRUE">ESRI Metadata Profile</metprof></metextns></metainfo>
	<mdLang>
		<languageCode Sync="TRUE" value="en">
		</languageCode>
	</mdLang>
	<mdStanName Sync="TRUE">ISO 19115 Geographic Information - Metadata</mdStanName>
	<mdStanVer Sync="TRUE">DIS_ESRI1.0</mdStanVer>
	<mdChar>
		<CharSetCd Sync="TRUE" value="004">
		</CharSetCd>
	</mdChar>
	<mdHrLv>
		<ScopeCd Sync="TRUE" value="005">
		</ScopeCd>
	</mdHrLv>
	<mdHrLvName Sync="TRUE">dataset</mdHrLvName>
	<distinfo>
		<resdesc>Downloadable Data</resdesc>
		<stdorder>
			<digform>
				<digtinfo>
					<transize Sync="TRUE">60.795</transize>
					<dssize Sync="TRUE">60.795</dssize>
					<formname>TIFF</formname>
					<formspec>GeoTIFF</formspec>
					<formcont>A GeoTIFF image and associated world file.</formcont>
					<filedec>zip</filedec>
				</digtinfo>
				<digtopt>
					<onlinopt>
						<computer>
							<networka>
								<networkr>http://pubs.usgs.gov/of/2005/1071/data/sidescan/sis1000/raw/geog/sis1000en_geog.zip</networkr>
							</networka>
						</computer>
						<accinstr>Data may be retrieved via any WWW browser.</accinstr>
					</onlinopt>
					<offoptn>
						<offmedia>DVD-ROM</offmedia>
						<reccap>
							<recden>4.75</recden>
							<recdenu>Gbytes</recdenu>
						</reccap>
						<recfmt>UDF</recfmt>
					</offoptn>
				</digtopt>
			</digform>
			<fees>None</fees>
		</stdorder>
		<distrib>
			<cntinfo>
				<cntperp>
					<cntper>David Twichell</cntper>
					<cntorg>U.S. Geological Survey</cntorg>
				</cntperp>
				<cntpos>Oceanographer</cntpos>
				<cntaddr>
					<addrtype>mailing and physical address</addrtype>
					<address>384 Woods Hole Road</address>
					<city>Woods Hole</city>
					<state>MA</state>
					<postal>02543-1598</postal>
					<country>USA</country>
				</cntaddr>
				<cntvoice>(508) 548-8700 x2266</cntvoice>
				<cntfax>(508) 457-2310</cntfax>
				<cntemail>dtwichell@usgs.gov</cntemail>
			</cntinfo>
		</distrib>
		<distliab>Although this data set has been used by the U.S. Geological Survey (USGS), no warranty, expressed or implied, is made by the USGS as to the accuracy of the data and/or related materials. The act of distribution shall not constitute any such warranty, and no responsibility is assumed by the USGS in the use of these data or related materials. Any use of trade, product, or firm names is for descriptive purposes only and does not imply endorsement by the U.S. Government.</distliab>
		<techpreq>This image is available as a GeoTIFF image with an accompanying world file. To utilize these data, the user must have an image viewer, image processing or GIS software package capable of importing a GEOTIFF image.</techpreq>
	</distinfo>
	<distInfo>
		<distributor>
			<distorTran>
				<onLineSrc>
					<orDesc Sync="TRUE">002</orDesc>
					<linkage Sync="TRUE">file://\\VEECRODTXP\E$\pubs_in_progress\gomgis\data\sidescan\imagery\sis1000\enhanced\geog\sis_engeog.tif</linkage>
					<protocol Sync="TRUE">Local Area Network</protocol>
				</onLineSrc>
				<transSize Sync="TRUE">60.795</transSize>
			</distorTran>
			<distorFormat>
				<formatName Sync="TRUE">Raster Dataset</formatName>
			</distorFormat>
		</distributor>
	</distInfo>
	<spdoinfo>
		<direct Sync="TRUE">Raster</direct>
		<rastinfo>
			<rasttype Sync="TRUE">Pixel</rasttype>
			<rowcount Sync="TRUE">7387</rowcount>
			<colcount Sync="TRUE">14040</colcount>
			<rastxsz Sync="TRUE">0.000020</rastxsz>
			<rastysz Sync="TRUE">0.000018</rastysz>
			<rastbpp Sync="TRUE">8</rastbpp>
			<vrtcount Sync="TRUE">1</vrtcount>
			<rastorig Sync="TRUE">Upper Left</rastorig>
			<rastcmap Sync="TRUE">TRUE</rastcmap>
			<rastcomp Sync="TRUE">PackBits</rastcomp>
			<rastband Sync="TRUE">1</rastband>
			<rastdtyp Sync="TRUE">pixel codes</rastdtyp>
			<rastplyr Sync="TRUE">FALSE</rastplyr>
			<rastifor Sync="TRUE">TIFF</rastifor>
			<rastxu>decimal degrees</rastxu><rastyu>decimal degrees</rastyu><rastnodt>255</rastnodt><rastityp>GeoTIFF</rastityp></rastinfo>
	</spdoinfo>
	<spatRepInfo>
		<GridSpatRep>
			<numDims Sync="TRUE">2</numDims>
			<cellGeo>
				<CellGeoCd Sync="TRUE" value="002">
				</CellGeoCd>
			</cellGeo>
			<tranParaAv Sync="TRUE">1</tranParaAv>
			<axDimProps><Dimen><dimName><DimNameTypCd Sync="TRUE" value="002"></DimNameTypCd></dimName><dimSize Sync="TRUE">14040</dimSize><dimResol><value Sync="TRUE">0.00002</value><uom><UomLength><uomName Sync="TRUE">Degree</uomName></UomLength></uom></dimResol></Dimen><Dimen><dimName><DimNameTypCd Sync="TRUE" value="001"></DimNameTypCd></dimName><dimSize Sync="TRUE">7387</dimSize><dimResol><value Sync="TRUE">0.000018</value><uom><UomLength><uomName Sync="TRUE">Degree</uomName></UomLength></uom></dimResol></Dimen></axDimProps></GridSpatRep>
	</spatRepInfo>
	<spref>
		<horizsys>
			<cordsysn>
				<geogcsn Sync="TRUE">GCS_WGS_1984</geogcsn>
			</cordsysn>
			<geograph>
				<geogunit Sync="TRUE">Decimal degrees</geogunit>
			</geograph>
			<geodetic>
				<horizdn Sync="TRUE">D_WGS_1984</horizdn>
				<ellips Sync="TRUE">WGS_1984</ellips>
				<semiaxis Sync="TRUE">6378137.000000</semiaxis>
				<denflat Sync="TRUE">298.257224</denflat>
			</geodetic>
		</horizsys>
	</spref>
	<eainfo>
		<detailed Name="Band_1">
			<enttyp>
				<enttypl Sync="TRUE">Band_1</enttypl>
				<enttypt Sync="TRUE">Table</enttypt>
				<enttypc Sync="TRUE">256</enttypc>
			</enttyp>
			<attr>
				<attrlabl Sync="TRUE">ObjectID</attrlabl>
				<attalias Sync="TRUE">ObjectID</attalias>
				<attrtype Sync="TRUE">OID</attrtype>
				<attwidth Sync="TRUE">4</attwidth>
				<atprecis Sync="TRUE">0</atprecis>
				<attscale Sync="TRUE">0</attscale>
				<attrdef Sync="TRUE">Internal feature number.</attrdef>
				<attrdefs Sync="TRUE">ESRI</attrdefs>
				<attrdomv>
					<udom Sync="TRUE">Sequential unique whole numbers that are automatically generated.</udom>
				</attrdomv>
			</attr>
			<attr>
				<attrlabl Sync="TRUE">Value</attrlabl>
				<attalias Sync="TRUE">Value</attalias>
				<attrtype Sync="TRUE">Integer</attrtype>
				<attwidth Sync="TRUE">0</attwidth>
				<atprecis Sync="TRUE">0</atprecis>
				<attscale Sync="TRUE">0</attscale>
			</attr>
			<attr>
				<attrlabl Sync="TRUE">Red</attrlabl>
				<attalias Sync="TRUE">Red</attalias>
				<attrtype Sync="TRUE">Double</attrtype>
				<attwidth Sync="TRUE">0</attwidth>
				<atprecis Sync="TRUE">0</atprecis>
				<attscale Sync="TRUE">0</attscale>
			</attr>
			<attr>
				<attrlabl Sync="TRUE">Green</attrlabl>
				<attalias Sync="TRUE">Green</attalias>
				<attrtype Sync="TRUE">Double</attrtype>
				<attwidth Sync="TRUE">0</attwidth>
				<atprecis Sync="TRUE">0</atprecis>
				<attscale Sync="TRUE">0</attscale>
			</attr>
			<attr>
				<attrlabl Sync="TRUE">Blue</attrlabl>
				<attalias Sync="TRUE">Blue</attalias>
				<attrtype Sync="TRUE">Double</attrtype>
				<attwidth Sync="TRUE">0</attwidth>
				<atprecis Sync="TRUE">0</atprecis>
				<attscale Sync="TRUE">0</attscale>
			</attr>
		</detailed>
		<overview>
			<dsoverv>Greyscale digital composite SIS1000 sidescan sonar mosaic of a minibasin on the Louisiana upper continental slope. Pixel values contain acoustic reflectivity values normalized to an 8-bit data range (0-255). Low-backscatter is represented by dark tones (low values) and high-backscatter is represented by bright tones (high values).</dsoverv>
			<eaover>There are no attributes associated with a GeoTIFF image.</eaover>
		</overview>
	</eainfo>
	<mdDateSt Sync="TRUE">20051213</mdDateSt>
	<refSysInfo>
		<RefSystem>
			<refSysID>
				<identCode Sync="TRUE">GCS_WGS_1984</identCode>
			</refSysID>
		</RefSystem>
	</refSysInfo>
	<dataqual>
		<lineage>
			<procstep>
				<procdesc>Sidescan sonar data were collected using a Benthos SIS-1000 sidescan sonar system and logged to a Triton/ELICS QMIPS data logging computer.</procdesc>
				<srcprod>QMIPS data files</srcprod>
			</procstep>
			<procstep>
				<procdesc>The digital sidescan data were copied from the logging computer and then processed and mapped to provide proper geographic locations of features identified in the imagery. The first step was to edit the navigation to generate the best tow-vehicle navigation possible. A full description of the navigation processing steps is given by Foster and others (2000). The next set of processing steps included subsampling the raw sidescan data using a median filtering routine to suppress speckle noise and reduce file size, merging these image files with the edited navigation and then correcting for slant-range distortion and signal attenuation using XSonar (Danforth and others, 1991). After these steps the data were imported to the WHIPS software (Paskevich, 1992) and high- and low-pass filtering routines were used to reduce the noise associated with dropped sonar lines. Once the processing of individual strips was completed the imagery was mapped to its proper geographic location using techniques summarized by Paskevich (1996). The data were mapped in UTM (zone 15) using the WGS 84 datum at a 2-m pixel size. The navigation processing was done by David Foster, the XSonar processing by William Danforth, and the WHIPS processing and mapping by VeeAnn Cross.</procdesc>
				<proccont>
					<cntinfo>
						<cntperp>
							<cntper>VeeAnn Cross</cntper>
							<cntorg>U.S. Geological Survey</cntorg>
						</cntperp>
						<cntpos>Marine Geologist</cntpos>
						<cntaddr>
							<addrtype>mailing and physical address</addrtype>
							<address>384 Woods Hole Road</address>
							<city>Woods Hole</city>
							<state>MA</state>
							<postal>02543-1598</postal>
							<country>USA</country>
						</cntaddr>
						<cntvoice>(508) 548-8700 x 2251</cntvoice>
						<cntfax>(508) 457-2310</cntfax>
						<cntemail>vatnipp@usgs.gov</cntemail>
					</cntinfo>
				</proccont>
				<srcprod>WHIPS data files</srcprod>
			</procstep>
			<procstep>
				<procdesc>Non-overlapping swaths of sonar imagery were brought into the PCI remote sensing software and combined to create a composite digital mosaic. The techniques used to generate the composite digital sidescan mosaic are summarized by Paskevich (1992). This process step was completed by David Twichell</procdesc>
				<proccont>
					<cntinfo>
						<cntperp>
							<cntper>David Twichell</cntper>
							<cntorg>U.S. Geological Survey</cntorg>
						</cntperp>
						<cntpos>Oceanographer</cntpos>
						<cntaddr>
							<addrtype>mailing and physical address</addrtype>
							<address>384 Woods Hole Road</address>
							<city>Woods Hole</city>
							<state>MA</state>
							<postal>02543-1598</postal>
							<country>USA</country>
						</cntaddr>
						<cntvoice>(508) 548-8700 x2266</cntvoice>
						<cntfax>(508) 457-2310</cntfax>
						<cntemail>dtwichell@usgs.gov</cntemail>
					</cntinfo>
				</proccont>
			</procstep>
			<procstep>
				<procdesc>A linear stretch was applied in PCI to the sidescan image to enhance the image. The data between values of 15 and 80 were spread across the full 8-bit range (0-255). High-backscatter (values near 255) in this image is white and low-backscatter (values near 0) is black. This step was completed by David Twichell.</procdesc>
				<procsv>PCI Remote Sensing software</procsv>
				<procdate>1999</procdate>
				<srcused>Area2.pix channel 1</srcused>
				<srcprod>Area2.pix channel 2</srcprod>
				<proccont>
					<cntinfo>
						<cntperp>
							<cntper>David Twichell</cntper>
							<cntorg>U.S. Geological Survey</cntorg>
