1.9997863096
0.0000000000
0.0000000000
-1.9229849954
611607.9998931548
3079254.0385075030
