2.317044386953893
0.000000000000000
0.000000000000000
-2.317143583480057
738181.752166284710000
4573140.454581585700000
