13.000000000000
0.000000000000
0.000000000000
-13.000000000000
-23590.865234375018
3930597.498574316500
