<?xml version="1.0" encoding="UTF-8"?>
<metadata xml:lang="en">
	<idinfo>
		<citation>
			<citeinfo>
				<origin>Page C. Valentine</origin>
				<origin>Jessica L. Baker</origin>
				<origin>Tanya S. Unger</origin>
				<pubdate>2005</pubdate>
				<title>bcksctter.tif:  Backscatter intensity and sun-illuminated topographic imagery of the seafloor in the Stellwagen Bank National Marine Sanctuary region.</title>
				<edition>1.0</edition>
				<geoform Sync="TRUE">remote-sensing image</geoform>
				<serinfo>
					<sername>Scientific Investigations Map</sername><issue>2840</issue></serinfo>
				<pubinfo>
					<pubplace>Woods Hole Science Center, Woods Hole, MA</pubplace>
					<publish>U.S. Geological Survey, Coastal and Marine Geology Program</publish>
				</pubinfo>
				<onlink>http://pubs.usgs.gov/sim/2005/2840/data/backscatter/bcksctter.zip</onlink>
				<lworkcit>
					<citeinfo>
						<origin>Page C. Valentine, editor</origin>
						<pubdate>2005</pubdate>
						<title>Sea floor image maps showing topography, sun-illuminated topography, backscatter intensity, ruggedness, slope, and the distribution of boulder ridges and bedrock outcrops in the Stellwagen Bank National Marine Sanctuary region off Boston, Massachusetts</title>
						<edition>1.0</edition>
						<serinfo>
							<sername>Scientific Investigations Map</sername>
							<issue>2840</issue>
						</serinfo>
						<pubinfo>
							<pubplace>Woods Hole Science Center, Woods Hole, MA</pubplace>
							<publish>U.S. Geological Survey, Coastal and Marine Geology Program</publish>
						</pubinfo>
						<othercit>1:60,000, 6 maps, 12 sheets</othercit>
						<onlink>http://pubs.usgs.gov/sim/2005/2840/</onlink></citeinfo>
				</lworkcit>
				<ftname Sync="TRUE">bcksctter.tif</ftname></citeinfo>
		</citation>
		<descript>
			<abstract>This data set contains the sun-illuminated topographic imagery and backscatter intensity generated from a multibeam sonar survey of the Stellwagen Bank National Marine Sanctuary region off Boston, Massachusetts, an area of approximately 1100 square nautical miles. The Stellwagen Bank NMS Mapping Project is designed to provide detailed maps of the Stellwagen Bank region's environments and habitats and the first complete multibeam topographic and sea floor characterization maps of a significant region of the shallow EEZ.

Data were collected on four cruises over a two year period from the fall of 1994 to the fall of 1996. The surveys were conducted aboard the Canadian Hydrographic Service vessel Frederick G. Creed, a SWATH (Small Waterplane Twin Hull) ship that surveys at speeds of up to 16 knots. The multibeam data were collected utilizing a Simrad Subsea EM 1000 Multibeam Echo Sounder (95 kHz) that is permanently installed in the hull of the Creed.</abstract>
			<purpose>Development of interpretive seabed maps, sea floor imagery, and a GIS database that are accessible to scientists, policymakers, managers, and the general public.</purpose>
			<langdata Sync="TRUE">en</langdata></descript>
		<timeperd>
			<timeinfo>
				<rngdates>
					<begdate>1994</begdate>
					<enddate>1998</enddate></rngdates>
			</timeinfo>
			<current>ground condition</current>
		</timeperd>
		<status>
			<progress>Complete</progress>
			<update>As needed</update>
		</status>
		<spdom>
			<bounding>
				<westbc>-70.600</westbc>
				<eastbc>-70.0333</eastbc>
				<northbc>42.800</northbc>
				<southbc>42.0833</southbc>
			</bounding>
			<lboundng><leftbc Sync="TRUE">-23590.865234</leftbc><rightbc Sync="TRUE">23612.134766</rightbc><bottombc Sync="TRUE">3850010.498574</bottombc><topbc Sync="TRUE">3930597.498574</topbc></lboundng></spdom>
		<keywords>
			<theme>
				<themekt>General</themekt>
				<themekey>Geographic Information Systems</themekey>
				<themekey>U.S. Geological Survey</themekey>
				<themekey>USGS</themekey>
				<themekey>Coastal and Marine Geology Program</themekey>
				<themekey>CMGP</themekey>
				<themekey>Woods Hole Science Center</themekey>
				<themekey>WHSC</themekey>
				<themekey>SIMRAD SUBSEA EM 1000</themekey>
				<themekey>Frederick G. Creed</themekey>
				<themekey>Multibeam Echo Sounder</themekey>
				<themekey>Sea floor topography</themekey>
				<themekey>bathymetry</themekey>
				<themekey>shaded relief imagery</themekey>
				<themekey>backscatter intensity</themekey>
				<themekey>psuedo color encoded</themekey>
				<themekey>GeoTIFF image</themekey>
			</theme>
			<place>
				<placekt>General</placekt>
				<placekey>Massachusetts</placekey>
				<placekey>MA</placekey>
				<placekey>Stellwagen Bank National Marine Sanctuary</placekey>
				<placekey>SBNMS</placekey>
				<placekey>Shallow EEZ</placekey>
				<placekey>EEZ</placekey>
				<placekey>Gulf of Maine</placekey>
				<placekey>Atlantic Ocean</placekey>
				<placekey>North Atlantic</placekey>
				<placekey>Boston</placekey>
			</place>
			<theme><themekey>oceans and estuaries</themekey><themekey>geoscientificInformation</themekey><themekt>ISO 19115 Topic Category</themekt><themekey>imageryBaseMapsEarthCover</themekey><themekey>elevation</themekey></theme></keywords>
		<accconst>None</accconst>
		<useconst>
Public domain data from the U.S. Government are freely redistributable with proper metadata and source attribution.  Please recognize the U.S. Geological Survey (USGS) as the source of this information.
</useconst>
		<ptcontac>
			<cntinfo>
				<cntperp>
					<cntper>Page C. Valentine</cntper>
					<cntorg>U.S. Geological Survey</cntorg>
				</cntperp>
				<cntpos>Research Geologist</cntpos>
				<cntaddr>
					<addrtype>mailing and physical address</addrtype>
					<address>U.S. Geological Survey</address>
					<address>384 Woods Hole Rd.</address>
					<city>Woods Hole</city>
					<state>MA</state>
					<postal>02543-1598</postal>
					<country>USA</country>
				</cntaddr>
				<cntvoice>(508) 548-8700 x2239</cntvoice>
				<cntfax>(508) 457-2310</cntfax>
				<cntemail>pvalentine@usgs.gov</cntemail>
			</cntinfo>
		</ptcontac>
		<crossref>
			<citeinfo>
				<origin>Page C. Valentine</origin>
				<origin>Tammie J. Middleton</origin>
				<origin>Sarah J. Fuller</origin>
				<pubdate>2001</pubdate>
				<title>Sea floor maps showing topography, sun-illuminated topography, and backscatter intensity of the Stellwagen Bank National Marine Sanctuary region off Boston, Massachusetts</title>
				<edition>1.01</edition>
				<serinfo>
					<sername>Open-File Report</sername>
					<issue>00-410</issue>
				</serinfo>
				<onlink>http://pubs.usgs.gov/of/of00-410/</onlink>
				<pubinfo><pubplace>Woods Hole Science Center, Woods Hole, MA</pubplace><publish>U.S. Geological Survey, Coastal and Marine Geology Program</publish></pubinfo></citeinfo>
		</crossref>
		<crossref>
			<citeinfo>
				<origin>Page C. Valentine</origin>
				<origin>Jessica L. Baker</origin>
				<origin>Tanya S. Unger</origin>
				<pubdate>2003</pubdate>
				<title>Backscatter intensity and sun-illuminated sea Floor topography of the Stellwagen Bank National Marine Sanctuary off Boston, Massachusetts</title>
				<edition>1.0</edition>
				<geoform>map</geoform>
				<serinfo>
					<sername>Geologic Investigations Map</sername>
					<issue>I-2676-C</issue>
				</serinfo>
				<pubinfo><pubplace>Woods Hole Science Center, Woods Hole, MA</pubplace><publish>U.S. Geological Survey, Coastal and Marine Geology Program</publish></pubinfo></citeinfo>
		</crossref>
		<native Sync="TRUE">Microsoft Windows XP Version 5.1 (Build 2600) Service Pack 2; ESRI ArcCatalog 9.0.0.535</native><natvform Sync="TRUE">Raster Dataset</natvform><browse><browsen>http://pubs.usgs.gov/sim/2005/2840/data/backscatter/bcksctter-thumb.gif</browsen><browsed>Thumbnail image showing backscatter intensity and sun-illuminated topography of the seafloor in Stellwagen Bank National Marine Sanctuary region.</browsed><browset>GIF</browset></browse><browse><browsed>Browse image showing backscatter intensity and sun-illuminated topography of the seafloor in Stellwagen Bank National Marine Sanctuary region.</browsed><browset>GIF</browset><browsen>http://pubs.usgs.gov/sim/2005/2840/data/backscatter/bcksctter-browse.gif</browsen></browse></idinfo>
	<dataqual>
		<attracc>
			<attraccr>The ship's position was determined with an accuracy of 10 m or better using a Magnavox 4200 geographic positioning system (GPS) receiver in conjunction with differential GPS corrections transmitted by U.S. Coast Guard radio beacons. At the start of each day, casts were made to record the sound velocity profile of the water column in the area to be surveyed. This information is used by the data acquisition system to correct for the refraction of the transmitted multibeam sound signal as it travels through the water to and from the sea floor.</attraccr>
		</attracc>
		<logic>Multibeam echo sounder data was collected aboard the Canadian Hydrographic Service vessel Frederick G. Creed, an aluminum SWATH (Small Waterplane Area Twin Hull) ship that surveys at speeds up to 16 knots. The ship has two submerged torpedo-shaped hulls that support the main deck via two thin struts. This design reduces wave motion on the ship and resistance to the ship's forward motion through the water, thus making it a very stable platform at high survey speeds. Stability of the ship is also enhanced by the computer-controlled action of four stabilizer fins located fore and aft on the inboard side of the hulls. The stabilizers control the pitch and roll of the vessel and allow adjustment of the heel and trim of the ship while under way.

An Applied Analytics POS/MV motion sensor located in the hull near the EM 1000 transducer detects changes in pitch, roll, and heave of the vessel. The motion information is recorded concurrently with the acquired multibeam signal and both are logged in a single file on the Sun workstation and made available to other workstations for further processing.</logic>
		<complete>The sidescan-sonar backscatter data are displayed in real time on the Sun workstation using software designed and written by the Ocean Mapping Group, University of New Brunswick. This display allows data gaps to be identified during the survey and also gives a measure of the data quality.</complete>
		<posacc>
			<horizpa>
				<horizpar>Sounding rates depend on water depth but vary from 2 to 4 per second in water depths less than 100 meters. Horizontal spatial resolution at these sounding rates is on the order of 10% of the water depth at 16 knots; however, vertical resolution is approximately 1% or better in the same depth range.</horizpar>
			</horizpa>
			<vertacc>
				<vertaccr>Sounding rates depend on water depth but vary from 2 to 4 per second in water depths less than 100 meters. Horizontal spatial resolution at these sounding rates is on the order of 10% of the water depth at 16 knots; however, vertical resolution is approximately 1% or better in the same depth range.</vertaccr>
			</vertacc>
		</posacc>
		<lineage>
			<procstep>
				<procdesc>Multibeam data were processed using SwathEd, a suite of multibeam software editing and display tools developed by Dr. John Hughes Clarke of the Ocean Mapping Group, University of New Brunswick (UNB).</procdesc>
				<time Sync="TRUE">13511700</time>
			</procstep>
		</lineage>
	</dataqual>
	<spdoinfo>
		<direct Sync="TRUE">Raster</direct>
		<rastinfo>
			<rasttype Sync="TRUE">Pixel</rasttype>
			<rowcount Sync="TRUE">6199</rowcount>
			<colcount Sync="TRUE">3631</colcount>
			<vrtcount Sync="TRUE">1</vrtcount>
			<rastxsz Sync="TRUE">13.000000</rastxsz><rastysz Sync="TRUE">13.000000</rastysz><rastbpp Sync="TRUE">8</rastbpp><rastorig Sync="TRUE">Upper Left</rastorig><rastcmap Sync="TRUE">FALSE</rastcmap><rastcomp Sync="TRUE">None</rastcomp><rastband Sync="TRUE">3</rastband><rastdtyp Sync="TRUE">pixel codes</rastdtyp><rastplyr Sync="TRUE">TRUE</rastplyr><rastifor Sync="TRUE">TIFF</rastifor><rastxu>meters</rastxu><rastyu>meters</rastyu><rastityp>GeoTIFF</rastityp></rastinfo>
	</spdoinfo>
	<spref>
		<horizsys>
			<planar>
				<mapproj>
					<mapprojn>Mercator</mapprojn>
					<mercator>
						<stdparll>41.650000</stdparll>
						<longcm>-70.316667</longcm>
						<feast>0</feast>
						<fnorth>0</fnorth>
					</mercator>
				</mapproj>
				<planci>
					<plance Sync="TRUE">row and column</plance>
					<coordrep>
						<absres Sync="TRUE">13.000000</absres>
						<ordres Sync="TRUE">13.000000</ordres>
					</coordrep>
					<plandu>meters</plandu>
				</planci>
			</planar>
			<geodetic>
				<horizdn>North American Datum of 1983</horizdn>
				<ellips>Geodetic Reference System 80</ellips>
			</geodetic>
		</horizsys>
	</spref>
	<eainfo>
		<overview>
			<eaover>Backscatter imagery combines the sun-illuminated topography with the backscatter intensity (shown here in color) of the sea floor. Backscatter intensity is a measure of the hardness and roughness of the sea floor as determined from the strength of sound waves reflected from the seabed during the survey. High-backscatter materials (red and orange) are coarse sand, gravel (including piles and ridges of boulders), and rock outcrops. Moderate backscatter (green) represents sand or muddy sand. Low backscatter (blue) represents sandy mud and mud. These interpretations apply best in region's of low regional topography, because steep slopes can divert the paths of some of the reflected sound waves away from the survey vessel. Thus, seabed that slopes steeply away from the survey track can produce a lower backscatter intensity than if it were level. Unnatural-looking stripes and patterns oriented parallel or perpendicular to survey track lines are artifacts of data collection. Blank areas represent places where no data exists.</eaover>
		</overview>
	</eainfo>
	<distinfo>
		<distrib>
			<cntinfo>
				<cntperp>
					<cntper>Page C. Valentine</cntper>
					<cntorg>U.S. Geological Survey</cntorg>
				</cntperp>
				<cntpos>Research Geologist</cntpos>
				<cntaddr>
					<addrtype>mailing and physical address</addrtype>
					<address>U.S. Geological Survey</address>
					<address>384 Woods Hole Rd.</address>
					<city>Woods Hole</city>
					<state>MA</state>
					<postal>02543-1598</postal>
					<country>USA</country>
				</cntaddr>
				<cntvoice>(508) 548-8700 x2239</cntvoice>
				<cntfax>(508) 457-2310</cntfax>
				<cntemail>pvalentine@usgs.gov</cntemail>
			</cntinfo>
		</distrib>
		<resdesc Sync="TRUE">Downloadable Data</resdesc>
		<distliab>Although these data have been used by the U.S. Geological Survey, U.S. Department of the Interior, no warranty expressed or implied is made by the U.S. Geological Survey as to the accuracy of the data.
	
Any use of trade, product, or firm names is for descriptive purposes only and does not imply endorsement by the U.S. Government.</distliab>
		<stdorder>
			<digform>
				<digtinfo>
					<formname>TIFF</formname>
					<transize Sync="TRUE">0.000</transize>
					<dssize Sync="TRUE">0.000</dssize><formspec>GeoTIFF</formspec><formcont>A zip archive containing the GeoTIFF image, associated world file, and metadata.</formcont><filedec>zip</filedec></digtinfo>
				<digtopt>
					<offoptn>
						<offmedia>DVD-ROM</offmedia>
						<recfmt>UDF</recfmt>
						<reccap><recden>4.75</recden><recdenu>Gbytes</recdenu></reccap></offoptn>
					<onlinopt><computer><networka><networkr>http://pubs.usgs.gov/sim/2005/2840/data/backscatter/bcksctter.zip</networkr></networka></computer></onlinopt></digtopt>
			</digform>
			<fees>None</fees></stdorder>
		<techpreq>This image is available as a GEOTIFF image with an accompanying world file. To utilize this data, the user must have an image viewer, image processing or GIS software package capable of importing a GeoTIFF image.
</techpreq></distinfo>
	<metainfo>
		<metd Sync="TRUE">20050822</metd>
		<metc>
			<cntinfo>
				<cntorgp>
					<cntorg>U.S. Geological Survey</cntorg>
					<cntper>Page C. Valentine</cntper>
				</cntorgp>
				<cntpos>Research Geologist</cntpos>
				<cntaddr>
					<addrtype>mailing and physical address</addrtype>
					<address>U.S. Geological Survey</address>
					<address>384 Woods Hole Rd.</address>
					<city>Woods Hole</city>
					<state>MA</state>
					<postal>02543-1598</postal>
					<country>USA</country>
				</cntaddr>
				<cntvoice>(508) 548-8700 x2239</cntvoice>
				<cntfax>(508) 457-2310</cntfax>
				<cntemail>pvalentine@usgs.gov</cntemail>
			</cntinfo>
		</metc>
		<metstdn Sync="TRUE">FGDC Content Standards for Digital Geospatial Metadata</metstdn>
		<metstdv Sync="TRUE">FGDC-STD-001-1998</metstdv>
		<mettc Sync="TRUE">local time</mettc>
		<langmeta Sync="TRUE">en</langmeta><metac>None</metac><metuc>None</metuc><metrd>20050822</metrd><metextns><onlink Sync="TRUE">http://www.esri.com/metadata/esriprof80.html</onlink><metprof Sync="TRUE">ESRI Metadata Profile</metprof></metextns></metainfo>
	<Esri>
		<ModDate>20050822</ModDate>
		<ModTime>16505600</ModTime>
		<MetaID>{397A4336-F24E-473B-9ECF-E407CE818351}</MetaID><CreaDate>20050808</CreaDate><CreaTime>11553300</CreaTime><SyncOnce>FALSE</SyncOnce><SyncDate>20050822</SyncDate><SyncTime>16505600</SyncTime></Esri>
	<mdDateSt Sync="TRUE">20050822</mdDateSt>
	<dataIdInfo><envirDesc Sync="TRUE">Microsoft Windows XP Version 5.1 (Build 2600) Service Pack 2; ESRI ArcCatalog 9.0.0.535</envirDesc><dataLang><languageCode Sync="TRUE" value="en"></languageCode></dataLang><idCitation><resTitle Sync="TRUE">bcksctter.tif</resTitle><presForm><PresFormCd Sync="TRUE" value="005"></PresFormCd></presForm></idCitation><spatRpType><SpatRepTypCd Sync="TRUE" value="002"></SpatRepTypCd></spatRpType><dataExt><geoEle><GeoBndBox esriExtentType="native"><westBL Sync="TRUE">-23590.865234</westBL><eastBL Sync="TRUE">23612.134766</eastBL><northBL Sync="TRUE">3930597.498574</northBL><southBL Sync="TRUE">3850010.498574</southBL><exTypeCode Sync="TRUE">1</exTypeCode></GeoBndBox></geoEle></dataExt></dataIdInfo><mdLang><languageCode Sync="TRUE" value="en"></languageCode></mdLang><mdStanName Sync="TRUE">ISO 19115 Geographic Information - Metadata</mdStanName><mdStanVer Sync="TRUE">DIS_ESRI1.0</mdStanVer><mdChar><CharSetCd Sync="TRUE" value="004"></CharSetCd></mdChar><mdHrLv><ScopeCd Sync="TRUE" value="005"></ScopeCd></mdHrLv><mdHrLvName Sync="TRUE">dataset</mdHrLvName><distInfo><distributor><distorTran><onLineSrc><orDesc Sync="TRUE">002</orDesc><linkage Sync="TRUE">file://\\Erihefdtxp\G_DATA\SBNMSI-maps\dataforCD_081505\backscatter\bcksctter.tif</linkage><protocol Sync="TRUE">Local Area Network</protocol></onLineSrc><transSize Sync="TRUE">0.000</transSize></distorTran><distorFormat><formatName Sync="TRUE">Raster Dataset</formatName></distorFormat></distributor></distInfo><spatRepInfo><GridSpatRep><numDims Sync="TRUE">2</numDims><cellGeo><CellGeoCd Sync="TRUE" value="002"></CellGeoCd></cellGeo><tranParaAv Sync="TRUE">1</tranParaAv><axDimProps><Dimen><dimName><DimNameTypCd Sync="TRUE" value="002"></DimNameTypCd></dimName><dimSize Sync="TRUE">3631</dimSize><dimResol><value Sync="TRUE">13</value><uom><UomLength><uomName Sync="TRUE">unknown</uomName></UomLength></uom></dimResol></Dimen><Dimen><dimName><DimNameTypCd Sync="TRUE" value="001"></DimNameTypCd></dimName><dimSize Sync="TRUE">6199</dimSize><dimResol><value Sync="TRUE">13</value><uom><UomLength><uomName Sync="TRUE">unknown</uomName></UomLength></uom></dimResol></Dimen></axDimProps></GridSpatRep></spatRepInfo></metadata>
