10.0
0.0
0.0
-10.0
-23593.54
3930608.72
