<?xml version="1.0" encoding="UTF-8"?>
<metadata xml:lang="en">
	<idinfo>
		<citation>
			<citeinfo>
				<origin>Page C. Valentine</origin>
				<origin>Tanya S. Unger</origin>
				<origin>Jessica L. Baker</origin>
				<pubdate>2005</pubdate>
				<title>sunillum.tif:  Sun-illuminated topographic imagery of the seafloor in the Stellwagen Bank National Marine Sanctuary region.</title>
				<edition>1.0</edition>
				<geoform Sync="TRUE">remote-sensing image</geoform>
				<serinfo>
					<sername>Scientific Investigations Map</sername><issue>2840</issue></serinfo>
				<pubinfo>
					<pubplace>Woods Hole Science Center, Woods Hole, MA</pubplace>
					<publish>U.S. Geological Survey, Coastal and Marine Geology Program</publish>
				</pubinfo>
				<onlink>http://pubs.usgs.gov/sim/2005/2840/data/sunillum/sunillum.zip</onlink>
				<lworkcit>
					<citeinfo>
						<origin>Page C. Valentine</origin>
						<pubdate>2005</pubdate>
						<title>Sea floor image maps showing topography, sun-illuminated topography, backscatter intensity, ruggedness, slope, and the distribution of boulder ridges and bedrock outcrops in the Stellwagen Bank National Marine Sanctuary region off Boston, Massachusetts</title>
						<edition>1.0</edition>
						<serinfo>
							<sername>Scientific Investigations Map</sername>
							<issue>2840</issue>
						</serinfo>
						<pubinfo>
							<pubplace>Woods Hole Science Center, Woods Hole, MA</pubplace>
							<publish>U.S. Geological Survey, Coastal and Marine Geology Program</publish>
						</pubinfo>
						<othercit>scale 1:60,000, 6 maps, 12 sheets</othercit>
						<onlink>http://pubs.usgs.gov/sim/2005/2840/</onlink></citeinfo>
				</lworkcit>
				<ftname Sync="TRUE">sunillum.tif</ftname></citeinfo>
		</citation>
		<descript>
			<abstract>The sun-illuminated topographic imagery of the Stellwagen Bank National Marine Sanctuary region off Boston, Massachusetts covers an area of approximately 1100 square nautical miles. The Stellwagen Bank NMS Mapping Project is designed to provide detailed maps of the Stellwagen Bank region's environments and habitats and the first complete multibeam topographic and sea floor characterization maps of a significant region of the shallow EEZ.  Data were collected on four cruises over a two year period from the fall of 1994 to the fall of 1996. The surveys were conducted aboard the Canadian Hydrographic Service vessel Frederick G. Creed, a SWATH (Small Waterplane Twin Hull) ship that surveys at speeds of up to 16 knots.</abstract>
			<purpose>Development of interpretive seabed maps, sea floor imagery, and a GIS database that are accessible to scientists, policymakers, managers, and the general public.</purpose>
			<langdata Sync="TRUE">en</langdata></descript>
		<timeperd>
			<timeinfo>
				<rngdates>
					<begdate>1994</begdate>
					<enddate>1998</enddate></rngdates>
			</timeinfo>
			<current>ground condition</current>
		</timeperd>
		<status>
			<progress>Complete</progress>
			<update>As needed</update>
		</status>
		<spdom>
			<bounding>
				<westbc>-70.6</westbc>
				<eastbc>-70.0333</eastbc>
				<northbc>42.8</northbc>
				<southbc>42.0833</southbc>
			</bounding>
			<lboundng><leftbc Sync="TRUE">-23598.540000</leftbc><rightbc Sync="TRUE">23581.460000</rightbc><bottombc Sync="TRUE">3850013.720000</bottombc><topbc Sync="TRUE">3930613.720000</topbc></lboundng></spdom>
		<keywords>
			<theme>
				<themekt>General</themekt>
				<themekey>Geographic Information Systems</themekey>
				<themekey>GIS</themekey>
				<themekey>U.S. Geological Survey</themekey>
				<themekey>USGS</themekey>
				<themekey>Coastal and Marine Geology Program</themekey>
				<themekey>CMGP</themekey>
				<themekey>Woods Hole Science Center</themekey>
				<themekey>WHSC</themekey>
				<themekey>Frederick G. Creed</themekey>
				<themekey>Swath Bathymetry</themekey>
				<themekey>topographic data</themekey>
				<themekey>sea floor topography</themekey>
				<themekey>bathymetry</themekey>
				<themekey>sun-illuminated imagery</themekey>
				<themekey>gray scale image</themekey>
				<themekey>GeoTIFF image</themekey>
			</theme>
			<place>
				<placekt>General</placekt>
				<placekey>Massachusetts</placekey>
				<placekey>MA</placekey>
				<placekey>Stellwagen Bank National Marine Sanctuary</placekey>
				<placekey>SBNMS</placekey>
				<placekey>Shallow EEZ</placekey>
				<placekey>EEZ</placekey>
				<placekey>Gulf of Maine</placekey>
				<placekey>Atlantic Ocean</placekey>
				<placekey>Boston</placekey>
			</place>
			<theme><themekey>oceans and estuaries</themekey><themekey>imageryBaseMapsEarthCover</themekey><themekt>ISO 19115 Topic Category</themekt><themekey>elevation</themekey></theme></keywords>
		<accconst>none</accconst>
		<useconst>Public domain data from the U.S. Government are freely redistributable with proper metadata and source attribution.  Please recognize the U.S. Geological Survey (USGS) as the source of this information.
		
		Not to be used for navigational purposes.</useconst>
		<ptcontac>
			<cntinfo>
				<cntperp>
					<cntper>Page C. Valentine</cntper>
					<cntorg>U.S. Geological Survey</cntorg>
				</cntperp>
				<cntpos>Research Geologist</cntpos>
				<cntaddr>
					<addrtype>mailing and physical address</addrtype>
					<address>U.S. Geological Survey</address>
					<address>384 Woods Hole Rd.</address>
					<city>Woods Hole</city>
					<state>MA</state>
					<postal>02543-1598</postal>
					<country>USA</country>
				</cntaddr>
				<cntvoice>(508) 548-8700 x2239</cntvoice>
				<cntfax>(508) 457-2310</cntfax>
				<cntemail>pvalentine@usgs.gov</cntemail>
			</cntinfo>
		</ptcontac>
		<crossref>
			<citeinfo>
				<origin>Page C. Valentine</origin>
				<origin>Tammie J. Middleton</origin>
				<origin>Sarah J. Fuller</origin>
				<pubdate>2001</pubdate>
				<title>Sea floor maps showing topography, sun-illuminated topography, and backscatter intensity of the Stellwagen Bank National Marine Sanctuary region off Boston, Massachusetts</title>
				<edition>1.01</edition>
				<serinfo>
					<sername>Open-File Report</sername>
					<issue>00-410</issue>
				</serinfo>
				<onlink>http://pubs.usgs.gov/of/of00-410/</onlink>
				<pubinfo><pubplace>Woods Hole Science Center, Woods Hole, MA</pubplace><publish>U.S. Geological Survey, Coastal and Marine Geology Program</publish></pubinfo></citeinfo>
		</crossref>
		<crossref>
			<citeinfo>
				<origin>Page C. Valentine</origin>
				<origin>Tanya S. Unger</origin>
				<origin>Jessica L. Baker</origin>
				<pubdate>2003</pubdate>
				<title>Sun-illuminated sea floor topography of the Stellwagen Bank National Marine Sanctuary off Boston, Massachusetts</title>
				<edition>1.0</edition>
				<geoform>map</geoform>
				<serinfo>
					<sername>Geologic Investigations Map</sername>
					<issue>I-2676-B</issue>
				</serinfo>
				<pubinfo><pubplace>Woods Hole Science Center, Woods Hole, MA</pubplace><publish>U.S. Geological Survey, Coastal and Marine Geology Program</publish></pubinfo></citeinfo>
		</crossref>
		<native Sync="TRUE">Microsoft Windows XP Version 5.1 (Build 2600) Service Pack 2; ESRI ArcCatalog 9.0.0.535</native><natvform Sync="TRUE">Raster Dataset</natvform><browse><browsen>http://pubs.usgs.gov/sim/2005/2840/data/sunillum/sunillum-thumb.gif</browsen><browset>GIF</browset><browsed>Thumbnail image showing overview of the sun-illuminated topographic imager of the seafloor in the Stellwagen Bank National Marine Sanctuary region.</browsed></browse><browse><browsen>http://pubs.usgs.gov/sim/2005/2840/data/sunillum/sunillum-browse.gif</browsen><browset>GIF</browset><browsed>Image showing overview of the sun-illuminated topographic imager of the seafloor in the Stellwagen Bank National Marine Sanctuary region.</browsed></browse></idinfo>
	<dataqual>
		<attracc>
			<attraccr>The ship's position was determined with an accuracy of 10 m or better using a Magnavox 4200 geographic positioning system (GPS) receiver in conjunction with differential GPS corrections transmitted by U.S. Coast Guard radio beacons. At the start of each day, casts were made to record the sound velocity profile of the water column in the area to be surveyed. Sound velocity information was updated during the day whenever the survey moved from one area to another. Tidal corrections based on NOAA's Boston tide gauge were used to reference depth data to mean lower low water.  Sounding rates depend on water depth but vary from 2 to 4 per second in water depths less than 100 meters. Horizontal spatial resolution at these sounding rates is on the order of 10% of the water depth at 16 knots; however, vertical resolution is approximately 1% or better in the same depth range.</attraccr>
		</attracc>
		<complete>The bathymetric data are displayed in real time on the Sun workstation using software designed and written by the Ocean Mapping Group, University of New Brunswick. This display allows data gaps to be identified during the survey and also gives a measure of the data quality.</complete>
		<posacc>
			<horizpa Sync="TRUE">
				<horizpar>Sounding rates depend on water depth but vary from 2 to 4 per second in water depths less than 100 meters. Horizontal spatial resolution at these sounding rates is on the order of 10% of the water depth at 16 knots; however, vertical resolution is approximately 1% or better in the same depth range.</horizpar>
			</horizpa>
			<vertacc>
				<vertaccr>Sounding rates depend on water depth but vary from 2 to 4 per second in water depths less than 100 meters. Horizontal spatial resolution at these sounding rates is on the order of 10% of the water depth at 16 knots; however, vertical resolution is approximately 1% or better in the same depth range.</vertaccr>
			</vertacc>
		</posacc>
		<lineage>
			<procstep>
				<procdesc>The navigation and topographic data were both edited using SwathEd, a suite of multibeam software editing and display tools developed by Dr. John Hughes Clarke of the Ocean Mapping Group, University of New Brunswick (UNB).. Tidal corrections were obtained from NOAA's Boston Tide Gauge (Station 8443970) and merged into the data set using UNB's tidal routines. The topographic information was converted into an ASCII text file containing lat, long, and depth fields, using a script created by Bill Danforth at the U.S. Geological Survey. The ASCII file was brought into Arc/Info, and a grid was generated and processed using ESRI's Arc/Info version 7.0.4 software. A point coverage containing depth values was created using the routine point-generate.

The grid was created based on the depth values for each of the points using the command pointgrid. The grid was filtered with a 9 by 9 focalmedian filter. Contours were generated using latticecontour. All editing and edgematching was done by hand using arcedit. The shaded relief images shown here were created using a light source that is 45 degrees above the horizon from an azimuth of 350 degrees. The vertical exaggeration in the images is four times. In effect, topographic relief is enhanced by illuminating the sea floor from a position 10 degrees west of north so that shadows are cast on the southern flanks of seabed features. Some features in the images are artifacts of data collection. They are especially noticeable where the seabed is smooth and include small highs and lows and unnatural-looking features and patterns that are oriented parallel or perpendicular to survey tracklines.</procdesc>
			</procstep>
		</lineage>
	</dataqual>
	<spdoinfo>
		<direct Sync="TRUE">Raster</direct>
		<rastinfo>
			<rasttype Sync="TRUE">Pixel</rasttype>
			<rowcount Sync="TRUE">8060</rowcount>
			<colcount Sync="TRUE">4718</colcount>
			<vrtcount Sync="TRUE">1</vrtcount>
			<rastxsz Sync="TRUE">10.000000</rastxsz><rastysz Sync="TRUE">10.000000</rastysz><rastbpp Sync="TRUE">8</rastbpp><rastorig Sync="TRUE">Upper Left</rastorig><rastcmap Sync="TRUE">FALSE</rastcmap><rastcomp Sync="TRUE">None</rastcomp><rastband Sync="TRUE">1</rastband><rastdtyp Sync="TRUE">pixel codes</rastdtyp><rastplyr Sync="TRUE">TRUE</rastplyr><rastifor Sync="TRUE">TIFF</rastifor></rastinfo>
	</spdoinfo>
	<spref>
		<horizsys>
			<planar>
				<mapproj>
					<mapprojn>Mercator</mapprojn>
					<mercator>
						<stdparll>41.65</stdparll>
						<longcm>-70.3167</longcm>
						<feast>0</feast>
						<fnorth>0</fnorth>
					</mercator>
				</mapproj>
				<planci>
					<plance Sync="TRUE">row and column</plance>
					<coordrep>
						<absres Sync="TRUE">10.000000</absres>
						<ordres Sync="TRUE">10.000000</ordres>
					</coordrep>
					<plandu>meters</plandu>
				</planci>
			</planar>
			<geodetic>
				<horizdn>North American Datum of 1983</horizdn>
				<ellips>Geodetic Reference System 80</ellips>
			</geodetic>
		</horizsys>
	</spref>
	<eainfo>
		<overview Sync="TRUE">
			<eaover>Sun-illuminated topographic imagery combines contoured topography and sun-illuminated topographic imagery. The image shown here uses a sun elevation angle of 45 degrees above the horizon from an azimuth of 350 degrees and a vertical exaggeration of four times. In effect, topographic relief is enhanced by having the sun illuminate the sea floor from a position 10 degrees west of north so that shadows are cast on the southern flanks of seabed features. Unnatural-looking stripes and patterns oriented parallel or perpendicular to survey track lines are artifacts of data collection. Blank areas represent places where no data exists. The topographic imagery is identical to that shown on Sheet 3 of this report.</eaover>
		</overview>
	</eainfo>
	<distinfo Sync="TRUE">
		<distrib>
			<cntinfo Sync="TRUE">
				<cntperp>
					<cntper>Page C. Valentine</cntper>
					<cntorg>U.S. Geological Survey</cntorg>
				</cntperp>
				<cntpos>Research Geologist</cntpos>
				<cntaddr Sync="TRUE">
					<addrtype>mailing and physical address</addrtype>
					<address>U.S. Geological Survey</address>
					<address>384 Woods Hole Rd.</address>
					<city>Woods Hole</city>
					<state>MA</state>
					<postal>02543-1598</postal>
					<country>USA</country>
				</cntaddr>
				<cntvoice>(508) 548-8700 x2239</cntvoice>
				<cntfax>(508) 457-2310</cntfax>
				<cntemail>pvalentine@usgs.gov</cntemail>
			</cntinfo>
		</distrib>
		<resdesc>Downloadable Data</resdesc>
		<distliab>Although these data have been used by the U.S. Geological Survey, U.S. Department of the Interior, no warranty expressed or implied is made by the U.S. Geological Survey as to the accuracy of the data.
	
Any use of trade, product, or firm names is for descriptive purposes only and does not imply endorsement by the U.S. Government.</distliab>
		<stdorder>
			<digform>
				<digtinfo>
					<formname>TIFF</formname>
					<transize Sync="TRUE">0.000</transize>
					<dssize Sync="TRUE">0.000</dssize><formspec>GeoTIFF</formspec><formcont>A zip archive containing the GeoTIFF image, associated world file, and metadata.</formcont><filedec>zip</filedec></digtinfo>
				<digtopt>
					<offoptn>
						<offmedia>DVD-ROM</offmedia>
						<recfmt>UDF</recfmt>
						<reccap><recden>4.75</recden><recdenu>Gbytes</recdenu></reccap></offoptn>
					<onlinopt><computer><networka><networkr>http://pubs.usgs.gov/sim/2005/2840/data/sunillum/sunillum.zip</networkr></networka></computer></onlinopt></digtopt>
			</digform>
			<fees>None</fees></stdorder>
		<techpreq>This image is available as a GEOTIFF image with an accompanying world file. To utilize this data, the user must have an image viewer, image processing or GIS software package capable of importing a GeoTIFF image.
</techpreq></distinfo>
	<metainfo>
		<metd Sync="TRUE">20050823</metd>
		<metc>
			<cntinfo>
				<cntorgp Sync="TRUE">
					<cntorg>U.S. Geological Survey</cntorg>
					<cntper Sync="TRUE">Page C. Valentine</cntper>
				</cntorgp>
				<cntpos Sync="TRUE">Research Geologist</cntpos>
				<cntaddr Sync="TRUE">
					<addrtype>mailing and physical address</addrtype>
					<address>U.S. Geological Survey</address>
					<address>384 Woods Hole Rd.</address>
					<city>Woods Hole</city>
					<state>MA</state>
					<postal Sync="TRUE">02543</postal>
					<country Sync="TRUE">USA</country>
				</cntaddr>
				<cntvoice>(508) 548-8700 x2239</cntvoice>
				<cntfax>(508) 457-2310</cntfax>
				<cntemail>pvalentine@usgs.gov</cntemail>
			</cntinfo>
		</metc>
		<metstdn Sync="TRUE">FGDC Content Standards for Digital Geospatial Metadata</metstdn>
		<metstdv Sync="TRUE">FGDC-STD-001-1998</metstdv>
		<mettc Sync="TRUE">local time</mettc>
		<langmeta Sync="TRUE">en</langmeta><metrd>20050822</metrd><metac>None</metac><metuc>None</metuc><metextns><onlink Sync="TRUE">http://www.esri.com/metadata/esriprof80.html</onlink><metprof Sync="TRUE">ESRI Metadata Profile</metprof></metextns></metainfo>
	<Esri><ModDate>20050823</ModDate><ModTime>06455500</ModTime><MetaID>{B38EF526-D2FD-4A02-BDB0-D401F3E7FD2C}</MetaID><CreaDate>20050809</CreaDate><CreaTime>15532900</CreaTime><SyncOnce>FALSE</SyncOnce><SyncDate>20050823</SyncDate><SyncTime>06455500</SyncTime></Esri><mdDateSt Sync="TRUE">20050823</mdDateSt><dataIdInfo><envirDesc Sync="TRUE">Microsoft Windows XP Version 5.1 (Build 2600) Service Pack 2; ESRI ArcCatalog 9.0.0.535</envirDesc><dataLang><languageCode Sync="TRUE" value="en"></languageCode></dataLang><idCitation><resTitle Sync="TRUE">sunillum.tif</resTitle><presForm><PresFormCd Sync="TRUE" value="005"></PresFormCd></presForm></idCitation><spatRpType><SpatRepTypCd Sync="TRUE" value="002"></SpatRepTypCd></spatRpType><dataExt><geoEle><GeoBndBox esriExtentType="native"><westBL Sync="TRUE">-23598.54</westBL><eastBL Sync="TRUE">23581.46</eastBL><northBL Sync="TRUE">3930613.72</northBL><southBL Sync="TRUE">3850013.72</southBL><exTypeCode Sync="TRUE">1</exTypeCode></GeoBndBox></geoEle></dataExt></dataIdInfo><mdLang><languageCode Sync="TRUE" value="en"></languageCode></mdLang><mdStanName Sync="TRUE">ISO 19115 Geographic Information - Metadata</mdStanName><mdStanVer Sync="TRUE">DIS_ESRI1.0</mdStanVer><mdChar><CharSetCd Sync="TRUE" value="004"></CharSetCd></mdChar><mdHrLv><ScopeCd Sync="TRUE" value="005"></ScopeCd></mdHrLv><mdHrLvName Sync="TRUE">dataset</mdHrLvName><distInfo><distributor><distorTran><onLineSrc><orDesc Sync="TRUE">002</orDesc><linkage Sync="TRUE">file://\\Erihefdtxp\G_DATA\SBNMSI-maps\dataforCD_081505\sunillum\sunillum.tif</linkage><protocol Sync="TRUE">Local Area Network</protocol></onLineSrc><transSize Sync="TRUE">0.000</transSize></distorTran><distorFormat><formatName Sync="TRUE">Raster Dataset</formatName></distorFormat></distributor></distInfo><spatRepInfo><GridSpatRep><numDims Sync="TRUE">2</numDims><cellGeo><CellGeoCd Sync="TRUE" value="002"></CellGeoCd></cellGeo><tranParaAv Sync="TRUE">1</tranParaAv><axDimProps><Dimen><dimName><DimNameTypCd Sync="TRUE" value="002"></DimNameTypCd></dimName><dimSize Sync="TRUE">4718</dimSize><dimResol><value Sync="TRUE">10</value><uom><UomLength><uomName Sync="TRUE">unknown</uomName></UomLength></uom></dimResol></Dimen><Dimen><dimName><DimNameTypCd Sync="TRUE" value="001"></DimNameTypCd></dimName><dimSize Sync="TRUE">8060</dimSize><dimResol><value Sync="TRUE">10</value><uom><UomLength><uomName Sync="TRUE">unknown</uomName></UomLength></uom></dimResol></Dimen></axDimProps></GridSpatRep></spatRepInfo></metadata>
