0.00143733164604997
0
0
-0.00135503934240488
-67.7427131102675
20.294580297449
