0.000020664648698
0.000000000000000
0.000000000000000
-0.000020665857243
-72.153074004811941
41.271649623290266
