2.000359
0.000000
0.000000
-2.000000
696587.600000
4565533.720000
